BEGIN:VCALENDAR
VERSION:2.0
PRODID:-//dhtmlXScheduler//NONSGML v2.2//EN
X-WR-CALNAME:Wydarzenia
BEGIN:VEVENT
DTSTART:20210906T173000
DTEND:20210906T190000
UID:1
SUMMARY:Zebranie z rodzicami uczniów klas drugich
END:VEVENT
END:VCALENDAR