BEGIN:VCALENDAR
VERSION:2.0
PRODID:-//dhtmlXScheduler//NONSGML v2.2//EN
X-WR-CALNAME:Wydarzenia
BEGIN:VEVENT
DTSTART:20210907T173000
DTEND:20210907T190000
UID:1
SUMMARY:Zebranie z rodzicami klas trzecich
END:VEVENT
END:VCALENDAR