BEGIN:VCALENDAR
VERSION:2.0
PRODID:-//dhtmlXScheduler//NONSGML v2.2//EN
X-WR-CALNAME:Wydarzenia
BEGIN:VEVENT
DTSTART:20211015T073000
DTEND:20211015T235500
UID:1
SUMMARY:Dzień wolny od zajęć dydaktycznych.
END:VEVENT
END:VCALENDAR