BEGIN:VCALENDAR
VERSION:2.0
PRODID:-//dhtmlXScheduler//NONSGML v2.2//EN
X-WR-CALNAME:Wydarzenia
BEGIN:VEVENT
DTSTART:20241220T000000
DTEND:20241220T000000
UID:0
SUMMARY:Wigilie klasowe
END:VEVENT
BEGIN:VEVENT
DTSTART:20241223T000000
DTEND:20241231T000000
UID:1
SUMMARY:Zimowa przerwa świąteczna
END:VEVENT
END:VCALENDAR