BEGIN:VCALENDAR
VERSION:2.0
PRODID:-//dhtmlXScheduler//NONSGML v2.2//EN
X-WR-CALNAME:Wydarzenia
BEGIN:VEVENT
DTSTART:20241111T000000
DTEND:20241111T000000
UID:0
SUMMARY:Święto Niepodległości
END:VEVENT
END:VCALENDAR