BEGIN:VCALENDAR
VERSION:2.0
PRODID:-//dhtmlXScheduler//NONSGML v2.2//EN
X-WR-CALNAME:Wydarzenia
BEGIN:VEVENT
DTSTART:20211101T000000
DTEND:20211101T000000
UID:0
SUMMARY:Wszystkich Świętych
END:VEVENT
BEGIN:VEVENT
DTSTART:20211111T000000
DTEND:20211111T000000
UID:1
SUMMARY:Święto Niepodległości
END:VEVENT
BEGIN:VEVENT
DTSTART:20211112T000000
DTEND:20211112T000000
UID:2
SUMMARY:Dzień wolny od zajęć dydaktycznych.
END:VEVENT
END:VCALENDAR