BEGIN:VCALENDAR
VERSION:2.0
PRODID:-//dhtmlXScheduler//NONSGML v2.2//EN
X-WR-CALNAME:Wydarzenia
BEGIN:VEVENT
DTSTART:20230904T000000
DTEND:20230904T000000
UID:0
SUMMARY:Rozpoczęcie roku szkolnego 2023/2024
END:VEVENT
END:VCALENDAR