BEGIN:VCALENDAR
VERSION:2.0
PRODID:-//dhtmlXScheduler//NONSGML v2.2//EN
X-WR-CALNAME:Wydarzenia
BEGIN:VEVENT
DTSTART:20250619T000000
DTEND:20250619T000000
UID:0
SUMMARY:Boże Ciało
END:VEVENT
BEGIN:VEVENT
DTSTART:20250620T000000
DTEND:20250620T000000
UID:1
SUMMARY:Dzień wolny od zajęć dydaktycznych
END:VEVENT
BEGIN:VEVENT
DTSTART:20250627T000000
DTEND:20250627T000000
UID:2
SUMMARY:Zakończenie roku szkolnego
END:VEVENT
END:VCALENDAR