BEGIN:VCALENDAR
VERSION:2.0
PRODID:-//dhtmlXScheduler//NONSGML v2.2//EN
X-WR-CALNAME:Wydarzenia
BEGIN:VEVENT
DTSTART:20250502T000000
DTEND:20250502T000000
UID:0
SUMMARY:Dzień wolny od zajęć dydaktycznych
END:VEVENT
BEGIN:VEVENT
DTSTART:20250503T000000
DTEND:20250503T000000
UID:1
SUMMARY:Święto Konstytucji 3-go Maja
END:VEVENT
BEGIN:VEVENT
DTSTART:20250505T000000
DTEND:20250508T000000
UID:2
SUMMARY:Egzamin maturalny
END:VEVENT
END:VCALENDAR