BEGIN:VCALENDAR
VERSION:2.0
PRODID:-//dhtmlXScheduler//NONSGML v2.2//EN
X-WR-CALNAME:Wydarzenia
BEGIN:VEVENT
DTSTART:20230501T000000
DTEND:20230501T000000
UID:0
SUMMARY:1 maja - Święto Pracy
END:VEVENT
BEGIN:VEVENT
DTSTART:20230502T000000
DTEND:20230502T000000
UID:1
SUMMARY:2 maja - Dzień Flagi Rzeczypospolitej Polskiej
END:VEVENT
BEGIN:VEVENT
DTSTART:20230503T000000
DTEND:20230503T000000
UID:2
SUMMARY:3 maja - Święto Narodowe Trzeciego Maja
END:VEVENT
END:VCALENDAR