BEGIN:VCALENDAR
VERSION:2.0
PRODID:-//dhtmlXScheduler//NONSGML v2.2//EN
X-WR-CALNAME:Wydarzenia
BEGIN:VEVENT
DTSTART:20250417T000000
DTEND:20250422T000000
UID:0
SUMMARY:Wiosenna przerwa świąteczna
END:VEVENT
BEGIN:VEVENT
DTSTART:20250422T000000
DTEND:20250422T000000
UID:1
SUMMARY:Święto Ziemi
END:VEVENT
BEGIN:VEVENT
DTSTART:20250425T000000
DTEND:20250425T000000
UID:2
SUMMARY:Zakończenie nauki klas czwartych
END:VEVENT
END:VCALENDAR