BEGIN:VCALENDAR
VERSION:2.0
PRODID:-//dhtmlXScheduler//NONSGML v2.2//EN
X-WR-CALNAME:Wydarzenia
BEGIN:VEVENT
DTSTART:20230406T000000
DTEND:20230411T000000
UID:0
SUMMARY:Wiosenna przerwa świąteczna
END:VEVENT
BEGIN:VEVENT
DTSTART:20230409T000000
DTEND:20230409T000000
UID:1
SUMMARY:Wielkanoc
END:VEVENT
END:VCALENDAR