BEGIN:VCALENDAR
VERSION:2.0
PRODID:-//dhtmlXScheduler//NONSGML v2.2//EN
X-WR-CALNAME:Wydarzenia
BEGIN:VEVENT
DTSTART:20250102T000000
DTEND:20250103T000000
UID:0
SUMMARY:Dzień wolny od zajęć dydaktycznych
END:VEVENT
BEGIN:VEVENT
DTSTART:20250120T000000
DTEND:20250202T000000
UID:1
SUMMARY:Ferie zimowe
END:VEVENT
END:VCALENDAR