BEGIN:VCALENDAR
VERSION:2.0
PRODID:-//dhtmlXScheduler//NONSGML v2.2//EN
X-WR-CALNAME:Wydarzenia
BEGIN:VEVENT
DTSTART:20230130T000000
DTEND:20230212T000000
UID:0
SUMMARY:Ferie zimowe
END:VEVENT
BEGIN:VEVENT
DTSTART:20221223T000000
DTEND:20230101T000000
UID:1
SUMMARY:Zimowa przerwa świąteczna
END:VEVENT
BEGIN:VEVENT
DTSTART:20230101T000000
DTEND:20230101T000000
UID:2
SUMMARY:Nowy Rok 2023
END:VEVENT
BEGIN:VEVENT
DTSTART:20230106T000000
DTEND:20230106T000000
UID:3
SUMMARY:Święto Trzech Króli
END:VEVENT
END:VCALENDAR